BEGIN:VCALENDAR
VERSION:2.0
PRODID:-//YMCA Hayo-Went-Ha Camps - ECPv6.15.20//NONSGML v1.0//EN
CALSCALE:GREGORIAN
METHOD:PUBLISH
X-ORIGINAL-URL:https://hayowentha.org
X-WR-CALDESC:Events for YMCA Hayo-Went-Ha Camps
REFRESH-INTERVAL;VALUE=DURATION:PT1H
X-Robots-Tag:noindex
X-PUBLISHED-TTL:PT1H
BEGIN:VTIMEZONE
TZID:UTC
BEGIN:STANDARD
TZOFFSETFROM:+0000
TZOFFSETTO:+0000
TZNAME:UTC
DTSTART:20250101T000000
END:STANDARD
END:VTIMEZONE
BEGIN:VEVENT
DTSTART;TZID=UTC:20260411T100000
DTEND;TZID=UTC:20260411T140000
DTSTAMP:20260423T221842
CREATED:20260213T141539Z
LAST-MODIFIED:20260323T172242Z
UID:10000010-1775901600-1775916000@hayowentha.org
SUMMARY:Family Fun Day Arbutus lake
DESCRIPTION:Family Fun Day is a free\, family-friendly community event hosted by Hayo-Went-Ha Camps in partnership with Great Start Collaborative. It’s a chance for families to spend time together\, try fun activities\, and connect with local youth development organizations. \nFamilies can look forward to hands-on activity booths\, demonstrations\, games\, and shared play areas designed for kids and caregivers to enjoy together. Food will be provided\, and there will be fun prize drawings throughout the day\, including a chance to win a full week of Day Camp at YMCA Hayo-Went-Ha Sparks Day Camp on Torch Lake. \nThere is no cost to attend. Instead of an entrance fee\, families are encouraged to bring a non-perishable food item or personal care item to donate to a local food bank. \nFamily Fun Day is all about connection\, community\, and supporting families. We hope you’ll join us for a fun and meaningful day together. 
URL:https://hayowentha.org/events/arbutus-family-fun-day/
LOCATION:YMCA Camp Arbutus Hayo-Went-Ha\, 1380 E Arbutus Lake Road\, Traverse City\, MI\, 49696\, United States
CATEGORIES:Arbutus Lake
ATTACH;FMTTYPE=image/jpeg:https://hayowentha.org/wp-content/uploads/2026/02/Lake-Arbutus.jpg
ORGANIZER;CN="YMCA Hayo-Went-Ha Camps":MAILTO:registrar@hayowentha.org
END:VEVENT
BEGIN:VEVENT
DTSTART;VALUE=DATE:20260425
DTEND;VALUE=DATE:20260426
DTSTAMP:20260423T221842
CREATED:20260213T141916Z
LAST-MODIFIED:20260323T205809Z
UID:10000011-1777075200-1777161599@hayowentha.org
SUMMARY:Hayo-Hike Torch lake
DESCRIPTION:Hayo-Hike Day Is Going National (and International!) \nOn April 25\, the Hayo-Went-Ha Camps community will be gathering across the country\, and even around the world\, for National Hayo-Hike Day. From coast to coast\, alumni\, families\, and friends are coming together to get outside\, reconnect\, and celebrate the camp spirit. \nEach hike is uniquely led by members of our alumni community and reflects the love of connection that defines Hayo-Went-Ha Camps.  \nThe Torch Lake location is a great Hayo-Hike destination for all who are in teh general camp area. It is a great opportunity to share stories\, build connections\, and celebrate camp. This is a great way to honor Earth Day and the official kick off of the Summer Dreams Campership and Equipment Drive that was launched on April 22nd.  \nWe can’t wait to see photos and stories from across the country and beyond as we celebrate together on April 25. \nOther Hayo-Hike Day Locations – April 25 \nWe’re excited to share the growing list of Hayo-Hike gatherings happening across the country (and beyond). Each location is hosted by members of our camp community and offers a unique way to connect\, explore\, and celebrate camp. \nAnn Arbor\, MichiganHosted by Emma Macaluso11:00 AMUniversity of Michigan Nichols Arboretum1610 Washington Heights\, Ann Arbor\, MI \nAtlanta\, GeorgiaHosted by Ani Hildebrandt and Chris Holter10:00 AMIsland Ford at the Chattahoochee River8800 Roberts Drive\, Sandy Springs\, GAMeet outside the Visitor Center \nArbutus Lake (Camp AHWH)Hosted by Mackenzie “MackMo” Morrison2:00 PMMeet at the Camp Office \nTorch Lake (Camp THWH)Hosted by Jack LaGoy2:00 PMMeet at the Camp Office \nChicago\, IllinoisHosted by Connor CronanDetails coming soon \nCincinnati\, OhioHosted by Mimi DyerDetails coming soon \nCleveland\, OhioHosted by Doug Vahey4:00 PM ETSalt Run Trail (5K with shorter option)Cuyahoga Valley National Park1000 Truxell Road\, Peninsula\, OH \nFort Collins\, ColoradoHosted by Meg VanOsdol1:00 PMPoudre TrailMeet at the parking lot (link to map provided) \nNew York City\, New YorkHosted by Brad Middlekauff2:00 PMCentral Park – Fred Lebow StatueEast 90th Street and 5th Avenue \nPortland\, OregonHosted by Nat Mitchell\, Kyla Louis\, Christa Shier\, and Carson Keene10:00 AMOaks Bottom Wildlife RefugeNorth Parking & Trailhead \nSeattle\, WashingtonHosted by Lucy Portman1:00 PMDiscovery Park – North Parking Lot \nWashington\, DC AreaHosted by Casey and Hadley Robinson10:00 AMNational ArboretumMeet in the parking lot off R Street (near the Bonsai Garden/Admin Building) \nAustralia (International Hayo-Hike!)Hosted by Eliza Flower and Ellie Cameron-KreppDetails coming soon \nFinal details for a few locations are still being confirmed\, and we’ll continue to share updates as they come in.
URL:https://hayowentha.org/events/torch-hayo-hike/
LOCATION:YMCA Camp Torch Hayo-Went-Ha\, 919 N East Torch Lake Drive\, Central Lake\, MI\, 49622\, United States
CATEGORIES:Torch Lake
ATTACH;FMTTYPE=image/jpeg:https://hayowentha.org/wp-content/uploads/2026/02/Events__0000_20230702_132732.jpg
ORGANIZER;CN="YMCA Hayo-Went-Ha Camps":MAILTO:registrar@hayowentha.org
END:VEVENT
BEGIN:VEVENT
DTSTART;VALUE=DATE:20260425
DTEND;VALUE=DATE:20260426
DTSTAMP:20260423T221842
CREATED:20260218T154936Z
LAST-MODIFIED:20260323T210032Z
UID:10000018-1777075200-1777161599@hayowentha.org
SUMMARY:Hayo-Hike Arbutus Lake
DESCRIPTION:Hayo-Hike Day Is Going National (and International!) \nOn April 25\, the Hayo-Went-Ha Camps community will be gathering across the country\, and even around the world\, for National Hayo-Hike Day. From coast to coast\, alumni\, families\, and friends are coming together to get outside\, reconnect\, and celebrate the camp spirit. \nEach hike is uniquely led by members of our alumni community and reflects the love of connection that defines Hayo-Went-Ha Camps.  \nThe Arbutus Lake location is a great Hayo-Hike destination for all who are in the general camp area. It is a great opportunity to share stories\, build connections\, and celebrate camp. This is a great way to honor Earth Day and the official kick off of the Summer Dreams Campership and Equipment Drive that was launched on April 22nd.  \nWe can’t wait to see photos and stories from across the country and beyond as we celebrate together on April 25. \nOther Hayo-Hike Day Locations – April 25 \nWe’re excited to share the growing list of Hayo-Hike gatherings happening across the country (and beyond). Each location is hosted by members of our camp community and offers a unique way to connect\, explore\, and celebrate camp. \nAustralia (International Hayo-Hike!)Hosted by Eliza Flower and Ellie Cameron-KreppDetails coming soon \nAnn Arbor\, MichiganHosted by Emma Macaluso11:00 AMUniversity of Michigan Nichols Arboretum1610 Washington Heights\, Ann Arbor\, MI \nAtlanta\, GeorgiaHosted by Ani Hildebrandt and Chris Holter10:00 AMIsland Ford at the Chattahoochee River8800 Roberts Drive\, Sandy Springs\, GAMeet outside the Visitor Center \nArbutus Lake (Camp AHWH)Hosted by Mackenzie “MackMo” Morrison2:00 PMMeet at the Camp Office \nTorch Lake (Camp THWH)Hosted by Jack LaGoy2:00 PMMeet at the Camp Office \nChicago\, IllinoisHosted by Connor CronanDetails coming soon \nCincinnati\, OhioHosted by Mimi DyerDetails coming soon \nCleveland\, OhioHosted by Doug Vahey4:00 PM ETSalt Run Trail (5K with shorter option)Cuyahoga Valley National Park1000 Truxell Road\, Peninsula\, OH \nFort Collins\, ColoradoHosted by Meg VanOsdol1:00 PMPoudre TrailMeet at the parking lot (link to map provided) \nNew York City\, New YorkHosted by Brad Middlekauff2:00 PMCentral Park – Fred Lebow StatueEast 90th Street and 5th Avenue \nPortland\, OregonHosted by Nat Mitchell\, Kyla Louis\, Christa Shier\, and Carson Keene10:00 AMOaks Bottom Wildlife RefugeNorth Parking & Trailhead \nSeattle\, WashingtonHosted by Lucy Portman1:00 PMDiscovery Park – North Parking Lot \nWashington\, DC AreaHosted by Casey and Hadley Robinson10:00 AMNational ArboretumMeet in the parking lot off R Street (near the Bonsai Garden/Admin Building) \nFinal details for a few locations are still being confirmed\, and we’ll continue to share updates as they come in.
URL:https://hayowentha.org/events/arbutus-hayo-hike/
LOCATION:YMCA Camp Arbutus Hayo-Went-Ha\, 1380 E Arbutus Lake Road\, Traverse City\, MI\, 49696\, United States
CATEGORIES:Arbutus Lake
ATTACH;FMTTYPE=image/jpeg:https://hayowentha.org/wp-content/uploads/2026/02/events_calendar__0010_6-Days-Away.jpg
ORGANIZER;CN="YMCA Hayo-Went-Ha Camps":MAILTO:registrar@hayowentha.org
END:VEVENT
END:VCALENDAR