BEGIN:VCALENDAR
VERSION:2.0
PRODID:-//YMCA Hayo-Went-Ha Camps - ECPv6.15.20//NONSGML v1.0//EN
CALSCALE:GREGORIAN
METHOD:PUBLISH
X-WR-CALNAME:YMCA Hayo-Went-Ha Camps
X-ORIGINAL-URL:https://hayowentha.org
X-WR-CALDESC:Events for YMCA Hayo-Went-Ha Camps
REFRESH-INTERVAL;VALUE=DURATION:PT1H
X-Robots-Tag:noindex
X-PUBLISHED-TTL:PT1H
BEGIN:VTIMEZONE
TZID:UTC
BEGIN:STANDARD
TZOFFSETFROM:+0000
TZOFFSETTO:+0000
TZNAME:UTC
DTSTART:20250101T000000
END:STANDARD
END:VTIMEZONE
BEGIN:VEVENT
DTSTART;TZID=UTC:20260502T090000
DTEND;TZID=UTC:20260503T133000
DTSTAMP:20260423T180623
CREATED:20260218T155245Z
LAST-MODIFIED:20260323T210939Z
UID:10000019-1777712400-1777815000@hayowentha.org
SUMMARY:Spring Spruce Up Torch Lake
DESCRIPTION:Every year we reach out to seek help to get our camps ready for another summer season. Our annual volunteer work weekend\, now aptly named “Operation Spring Spruce Up”\, for the Torch Lake location is scheduled for Friday\, May 1st – Sunday\, May 3rd.  \nEach volunteer at the work weekend makes a huge difference in getting our facilities ready for a new season of eager young campers. Plus\, it’s a great opportunity to rekindle old friendships\, forge new ones\, and spend time on the grounds of Hayo-Went-Ha Camps. \nSince “many hands make light work\,” we are hoping you know other camp families or friends who may be interested to join you. You (and your friends) are welcome to participate for the entire weekend\, just Saturday or simply contribute a few hours of your time. Either way\, your presence would be greatly appreciated! \nAccommodations and meals will be provided. For volunteers under 18\, we kindly request that a parent or supervising adult accompany them. Meals will be served from Saturday breakfast through Sunday lunch\, and work projects will conclude by noon on Sunday. \nWe look forward to welcoming you to one or both of our camps soon and extend our heartfelt gratitude in advance for your invaluable time and talents. \nOperation Spring Spruce Up Work Weekends – Register here. \nIf you have any questions\, please don’t hesitate to email –  \nScott Swanson – Building and Grounds Director – sswanson@hayowentha.org \nJack LaGoy at the Torch Lake site – Jlagoy@hayowentha.org  \nMackenzie (MackMo) Morison at the Arbutus Lake site – mmorison@hayowentha.org
URL:https://hayowentha.org/events/spring-spruce-up/
LOCATION:YMCA Camp Torch Hayo-Went-Ha\, 919 N East Torch Lake Drive\, Central Lake\, MI\, 49622\, United States
CATEGORIES:Torch Lake
ATTACH;FMTTYPE=image/jpeg:https://hayowentha.org/wp-content/uploads/2026/02/events_spring_spruce_up.jpg
ORGANIZER;CN="YMCA Hayo-Went-Ha Camps":MAILTO:registrar@hayowentha.org
END:VEVENT
BEGIN:VEVENT
DTSTART;TZID=UTC:20260516T090000
DTEND;TZID=UTC:20260517T133000
DTSTAMP:20260423T180623
CREATED:20260218T155446Z
LAST-MODIFIED:20260218T155705Z
UID:10000020-1778922000-1779024600@hayowentha.org
SUMMARY:Spring Spruce Up Arbutus Lake
DESCRIPTION:Looking for volunteer hours? Help us get camp ready for the summer!
URL:https://hayowentha.org/events/spring-spruce-up-arbutus/
LOCATION:YMCA Camp Torch Hayo-Went-Ha\, 919 N East Torch Lake Drive\, Central Lake\, MI\, 49622\, United States
CATEGORIES:Arbutus Lake
ATTACH;FMTTYPE=image/jpeg:https://hayowentha.org/wp-content/uploads/2026/02/events_spring_spruce_up.jpg
ORGANIZER;CN="YMCA Hayo-Went-Ha Camps":MAILTO:registrar@hayowentha.org
END:VEVENT
BEGIN:VEVENT
DTSTART;TZID=UTC:20260604T170000
DTEND;TZID=UTC:20260604T190000
DTSTAMP:20260423T180623
CREATED:20260218T160340Z
LAST-MODIFIED:20260218T160413Z
UID:10000021-1780592400-1780599600@hayowentha.org
SUMMARY:Bellaire Business After Hours
DESCRIPTION:Bellaire Business After Hours at the Bellaire Chamber of Commerce!
URL:https://hayowentha.org/events/bellaire-business-after-hours/
LOCATION:Bellaire Chamber of Commerce\, 308 E Cayuga Street\, Bellaire\, MI\, 49615\, United States
CATEGORIES:Torch Lake
ATTACH;FMTTYPE=image/jpeg:https://hayowentha.org/wp-content/uploads/2026/02/event_bellaire.jpg
ORGANIZER;CN="YMCA Hayo-Went-Ha Camps":MAILTO:registrar@hayowentha.org
END:VEVENT
BEGIN:VEVENT
DTSTART;TZID=UTC:20260604T170000
DTEND;TZID=UTC:20260604T190000
DTSTAMP:20260423T180623
CREATED:20260218T161042Z
LAST-MODIFIED:20260218T161042Z
UID:10000023-1780592400-1780599600@hayowentha.org
SUMMARY:Locals Lunch Torch lake
DESCRIPTION:Enjoy lunch in our Old Dining Hall on Torch Lake!
URL:https://hayowentha.org/events/locals-lunch-torch-lake/
LOCATION:YMCA Camp Torch Hayo-Went-Ha\, 919 N East Torch Lake Drive\, Central Lake\, MI\, 49622\, United States
CATEGORIES:Torch Lake
ATTACH;FMTTYPE=image/jpeg:https://hayowentha.org/wp-content/uploads/2026/02/events_locals_lunch.jpg
ORGANIZER;CN="YMCA Hayo-Went-Ha Camps":MAILTO:registrar@hayowentha.org
END:VEVENT
BEGIN:VEVENT
DTSTART;TZID=UTC:20260717T000000
DTEND;TZID=UTC:20260717T000000
DTSTAMP:20260423T180623
CREATED:20260218T153808Z
LAST-MODIFIED:20260218T161959Z
UID:10000016-1784246400-1784246400@hayowentha.org
SUMMARY:Shorts Alumni Event
DESCRIPTION:Meet Board Members\, the Camp Directors\, and fellow camp supporters.
URL:https://hayowentha.org/events/shorts-alumni-event/
LOCATION:Short’s Brewing Pull Barn\, 211 Industrial Park Drive\, Elk Rapids\, MI\, 49629\, United States
CATEGORIES:Alumni,Arbutus Lake,General,Recruitment,Torch Lake
ATTACH;FMTTYPE=image/jpeg:https://hayowentha.org/wp-content/uploads/2026/02/29793026_10156312333278390_2529124005152030720_n-e1770993145842.jpg
ORGANIZER;CN="YMCA Hayo-Went-Ha Camps":MAILTO:registrar@hayowentha.org
END:VEVENT
BEGIN:VEVENT
DTSTART;TZID=UTC:20260729T120000
DTEND;TZID=UTC:20260729T120000
DTSTAMP:20260423T180623
CREATED:20260218T161349Z
LAST-MODIFIED:20260218T161416Z
UID:10000024-1785326400-1785326400@hayowentha.org
SUMMARY:Locals Lunch Arbutus lake
DESCRIPTION:Enjoy Lunch in our original Trailside Lodge!
URL:https://hayowentha.org/events/locals-lunch-arbutus-lake/
LOCATION:YMCA Camp Arbutus Hayo-Went-Ha\, 1380 E Arbutus Lake Road\, Traverse City\, MI\, 49696\, United States
CATEGORIES:Arbutus Lake
ATTACH;FMTTYPE=image/jpeg:https://hayowentha.org/wp-content/uploads/2026/02/events_locals_lunch.jpg
ORGANIZER;CN="YMCA Hayo-Went-Ha Camps":MAILTO:registrar@hayowentha.org
END:VEVENT
BEGIN:VEVENT
DTSTART;VALUE=DATE:20260928
DTEND;VALUE=DATE:20260929
DTSTAMP:20260423T180623
CREATED:20260212T170113Z
LAST-MODIFIED:20260218T161836Z
UID:10000008-1790553600-1790639999@hayowentha.org
SUMMARY:Legacy Tree Celebration and Heritage Club Appreciation
DESCRIPTION:Brief description… quaecus eium adicius expellent omnimpore volorun torepuditam\, quiandandit ium res ut pos eosae prenitae net inis et asimin perovidus et officiet eos alita nihicil imus vel eum quas velit\, aut doluptatur\, que odi cusdanis plignim oluptiatem. Et faceruptis nonsero idi conectu ribeate nonseque nimus\, ium everrov idisquiae volum et ellam re quis dit incto ma quiatiis cullent\, commolles pore incillori quae sam is etur\, ut as as ut porent pelestiunto in pro tem aut adis nonsequam iur\, ommo eveliquia conseque vero de plaut lita arum experum fuga. Dae non prepedit\, se volorehendae nemqui aut ra cum ea autenis citate moluptatur? Oluptati aborehendel everite nduciminis eiur rempererunt hit\, quodionseque aut volorem ut quia quid excessunt et exceri sequi sa veribus andae. Luptat aut asi utaepelic tem aborumquis alit moluptae nam qui beroribus eseque doloreptat.
URL:https://hayowentha.org/events/legacy-tree-celebration-heritage-club-appreciation/
CATEGORIES:General
ATTACH;FMTTYPE=image/jpeg:https://hayowentha.org/wp-content/uploads/2026/02/legacy-tree.jpg
ORGANIZER;CN="YMCA Hayo-Went-Ha Camps":MAILTO:registrar@hayowentha.org
END:VEVENT
BEGIN:VEVENT
DTSTART;TZID=UTC:20261122T120000
DTEND;TZID=UTC:20261122T120000
DTSTAMP:20260423T180623
CREATED:20260218T161629Z
LAST-MODIFIED:20260218T161658Z
UID:10000025-1795348800-1795348800@hayowentha.org
SUMMARY:Thanksgiving
DESCRIPTION:Tickets go on sale in October!
URL:https://hayowentha.org/events/thanksgiving/
CATEGORIES:Alumni,Arbutus Lake,General,Torch Lake
ATTACH;FMTTYPE=image/jpeg:https://hayowentha.org/wp-content/uploads/2026/02/events_thankggiving.jpg
ORGANIZER;CN="YMCA Hayo-Went-Ha Camps":MAILTO:registrar@hayowentha.org
END:VEVENT
END:VCALENDAR