BEGIN:VCALENDAR
VERSION:2.0
PRODID:-//YMCA Hayo-Went-Ha Camps - ECPv6.15.20//NONSGML v1.0//EN
CALSCALE:GREGORIAN
METHOD:PUBLISH
X-ORIGINAL-URL:https://hayowentha.org
X-WR-CALDESC:Events for YMCA Hayo-Went-Ha Camps
REFRESH-INTERVAL;VALUE=DURATION:PT1H
X-Robots-Tag:noindex
X-PUBLISHED-TTL:PT1H
BEGIN:VTIMEZONE
TZID:UTC
BEGIN:STANDARD
TZOFFSETFROM:+0000
TZOFFSETTO:+0000
TZNAME:UTC
DTSTART:20250101T000000
END:STANDARD
END:VTIMEZONE
BEGIN:VEVENT
DTSTART;TZID=UTC:20260319T183000
DTEND;TZID=UTC:20260319T183000
DTSTAMP:20260423T222746
CREATED:20260218T151906Z
LAST-MODIFIED:20260218T162219Z
UID:10000015-1773945000-1773945000@hayowentha.org
SUMMARY:Ann Arbor Area Open House
DESCRIPTION:Join us for an opportunity to reconnect in Ann Arbor!
URL:https://hayowentha.org/events/ann-arbor-area-open-house/
LOCATION:West Side Methodist Church\, 900 South Seventh Street\, Ann Arbor\, MI\, 48103\, United States
CATEGORIES:Alumni,Recruitment
ATTACH;FMTTYPE=image/jpeg:https://hayowentha.org/wp-content/uploads/2026/02/29793026_10156312333278390_2529124005152030720_n-e1770993145842.jpg
ORGANIZER;CN="YMCA Hayo-Went-Ha Camps":MAILTO:registrar@hayowentha.org
END:VEVENT
END:VCALENDAR