BEGIN:VCALENDAR
VERSION:2.0
PRODID:-//YMCA Hayo-Went-Ha Camps - ECPv6.15.20//NONSGML v1.0//EN
CALSCALE:GREGORIAN
METHOD:PUBLISH
X-ORIGINAL-URL:https://hayowentha.org
X-WR-CALDESC:Events for YMCA Hayo-Went-Ha Camps
REFRESH-INTERVAL;VALUE=DURATION:PT1H
X-Robots-Tag:noindex
X-PUBLISHED-TTL:PT1H
BEGIN:VTIMEZONE
TZID:America/New_York
BEGIN:DAYLIGHT
TZOFFSETFROM:-0500
TZOFFSETTO:-0400
TZNAME:EDT
DTSTART:20250309T070000
END:DAYLIGHT
BEGIN:STANDARD
TZOFFSETFROM:-0400
TZOFFSETTO:-0500
TZNAME:EST
DTSTART:20251102T060000
END:STANDARD
BEGIN:DAYLIGHT
TZOFFSETFROM:-0500
TZOFFSETTO:-0400
TZNAME:EDT
DTSTART:20260308T070000
END:DAYLIGHT
BEGIN:STANDARD
TZOFFSETFROM:-0400
TZOFFSETTO:-0500
TZNAME:EST
DTSTART:20261101T060000
END:STANDARD
BEGIN:DAYLIGHT
TZOFFSETFROM:-0500
TZOFFSETTO:-0400
TZNAME:EDT
DTSTART:20270314T070000
END:DAYLIGHT
BEGIN:STANDARD
TZOFFSETFROM:-0400
TZOFFSETTO:-0500
TZNAME:EST
DTSTART:20271107T060000
END:STANDARD
END:VTIMEZONE
BEGIN:VEVENT
DTSTART;TZID=America/New_York:20260418T100000
DTEND;TZID=America/New_York:20260418T140000
DTSTAMP:20260423T210225
CREATED:20260212T182704Z
LAST-MODIFIED:20260323T172159Z
UID:10000009-1776506400-1776520800@hayowentha.org
SUMMARY:Family Fun Day Torch lake
DESCRIPTION:Family Fun Day is a free\, family-friendly community event hosted by Hayo-Went-Ha Camps in partnership with Great Start Collaborative. It’s a chance for families to spend time together\, try fun activities\, and connect with local youth development organizations. \nFamilies can look forward to hands-on activity booths\, demonstrations\, games\, and shared play areas designed for kids and caregivers to enjoy together. Food will be provided\, and there will be fun prize drawings throughout the day\, including a chance to win a full week of Day Camp at YMCA Hayo-Went-Ha Sparks Day Camp on Torch Lake. \nThere is no cost to attend. Instead of an entrance fee\, families are encouraged to bring a non-perishable food item or personal care item to donate to a local food bank. \nFamily Fun Day is all about connection\, community\, and supporting families. We hope you’ll join us for a fun and meaningful day together.  \n  \n  \n  \n  \n  \n  \n  \n  \n 
URL:https://hayowentha.org/events/torch-family-fun-day/
LOCATION:YMCA Camp Torch Hayo-Went-Ha\, 919 N East Torch Lake Drive\, Central Lake\, MI\, 49622\, United States
CATEGORIES:Torch Lake
ATTACH;FMTTYPE=image/jpeg:https://hayowentha.org/wp-content/uploads/2026/02/Torch-Lake.jpg
ORGANIZER;CN="YMCA Hayo-Went-Ha Camps":MAILTO:registrar@hayowentha.org
END:VEVENT
END:VCALENDAR