BEGIN:VCALENDAR
VERSION:2.0
PRODID:-//YMCA Hayo-Went-Ha Camps - ECPv6.15.20//NONSGML v1.0//EN
CALSCALE:GREGORIAN
METHOD:PUBLISH
X-WR-CALNAME:YMCA Hayo-Went-Ha Camps
X-ORIGINAL-URL:https://hayowentha.org
X-WR-CALDESC:Events for YMCA Hayo-Went-Ha Camps
REFRESH-INTERVAL;VALUE=DURATION:PT1H
X-Robots-Tag:noindex
X-PUBLISHED-TTL:PT1H
BEGIN:VTIMEZONE
TZID:UTC
BEGIN:STANDARD
TZOFFSETFROM:+0000
TZOFFSETTO:+0000
TZNAME:UTC
DTSTART:20250101T000000
END:STANDARD
END:VTIMEZONE
BEGIN:VEVENT
DTSTART;TZID=UTC:20260218T183000
DTEND;TZID=UTC:20260218T183000
DTSTAMP:20260423T221728
CREATED:20260213T143301Z
LAST-MODIFIED:20260218T162322Z
UID:10000012-1771439400-1771439400@hayowentha.org
SUMMARY:Cincinnati Area Alumni Gathering
DESCRIPTION:Join us for an opportunity to reconnect in Cincinnati!
URL:https://hayowentha.org/events/cincinnati-area-alumni-gathering/
LOCATION:Knox Presbyterian Church\, 3400 Michigan Avenue\, Cincinnati\, OH\, 45208\, United States
CATEGORIES:Alumni,Recruitment
ATTACH;FMTTYPE=image/jpeg:https://hayowentha.org/wp-content/uploads/2026/02/29793026_10156312333278390_2529124005152030720_n-e1770993145842.jpg
ORGANIZER;CN="YMCA Hayo-Went-Ha Camps":MAILTO:registrar@hayowentha.org
END:VEVENT
END:VCALENDAR